BEGIN:VCALENDAR
VERSION:2.0
PRODID:-//eventon.com NONSGML v1.0//EN
CALSCALE:GREGORIAN
METHOD:PUBLISH
BEGIN:VEVENT
UID:69e6014d0489f
DTSTAMP:20260420T103453Z
DTSTART:20261009T025000Z
DTEND:20261011T025000Z
LOCATION:
SUMMARY:Charlton Campdraft VIC
DESCRIPTION:Click here for Charlton Program\nhttps://www.campdraft.org.au/e
 vents/charlton-campdraft-vic/
URL:https://www.campdraft.org.au/events/charlton-campdraft-vic/
END:VEVENT
END:VCALENDAR