BEGIN:VCALENDAR
VERSION:2.0
PRODID:-//eventon.com NONSGML v1.0//EN
CALSCALE:GREGORIAN
METHOD:PUBLISH
BEGIN:VEVENT
UID:69e6017b5b872
DTSTAMP:20260420T103539Z
DTSTART:20261023
DTEND:20261024
LOCATION:
SUMMARY:Bunnaloo Campdraft NSW
DESCRIPTION:\nhttps://www.campdraft.org.au/events/bunnaloo-campdraft-nsw/
URL:https://www.campdraft.org.au/events/bunnaloo-campdraft-nsw/
END:VEVENT
END:VCALENDAR