BEGIN:VCALENDAR
VERSION:2.0
PRODID:-//eventon.com NONSGML v1.0//EN
CALSCALE:GREGORIAN
METHOD:PUBLISH
BEGIN:VEVENT
UID:69e60062a7d10
DTSTAMP:20260420T103058Z
DTSTART:20261002
DTEND:20261003
LOCATION:
SUMMARY:Illabo Campdraft NSW
DESCRIPTION:Program to come!\nhttps://www.campdraft.org.au/events/illabo-ca
 mpdraft-nsw/
URL:https://www.campdraft.org.au/events/illabo-campdraft-nsw/
END:VEVENT
END:VCALENDAR